BEGIN:VCALENDAR
PRODID:-//HKUST Drupal Platform//EN
VERSION:2.0
BEGIN:VTIMEZONE
TZID:Asia/Hong_Kong
BEGIN:STANDARD
DTSTART:20071104T020000
TZOFFSETFROM:+0700
TZOFFSETTO:+0800
TZNAME:HKT
END:STANDARD
END:VTIMEZONE
BEGIN:VEVENT
DTSTAMP;TZID=Asia/Hong_Kong:20260425T063652
DTSTART;TZID=Asia/Hong_Kong:20260213T073000
DTEND;TZID=Asia/Hong_Kong:19700101T080000
LOCATION:Meeting room 2 @ 3018
SUMMARY:Cantonese chit-chat 你今日“港”咗未？(For Chinese background students)
UID:2266
END:VEVENT
BEGIN:VEVENT
DTSTAMP;TZID=Asia/Hong_Kong:20260425T063652
DTSTART;TZID=Asia/Hong_Kong:20260220T073000
DTEND;TZID=Asia/Hong_Kong:19700101T080000
LOCATION:Meeting room 2 @ 3018
SUMMARY:Cantonese chit-chat 你今日“港”咗未？(For Chinese background students)
UID:2266
END:VEVENT
BEGIN:VEVENT
DTSTAMP;TZID=Asia/Hong_Kong:20260425T063652
DTSTART;TZID=Asia/Hong_Kong:20260227T073000
DTEND;TZID=Asia/Hong_Kong:19700101T080000
LOCATION:Meeting room 2 @ 3018
SUMMARY:Cantonese chit-chat 你今日“港”咗未？(For Chinese background students)
UID:2266
END:VEVENT
BEGIN:VEVENT
DTSTAMP;TZID=Asia/Hong_Kong:20260425T063652
DTSTART;TZID=Asia/Hong_Kong:20260306T073000
DTEND;TZID=Asia/Hong_Kong:19700101T080000
LOCATION:Meeting room 2 @ 3018
SUMMARY:Cantonese chit-chat 你今日“港”咗未？(For Chinese background students)
UID:2266
END:VEVENT
BEGIN:VEVENT
DTSTAMP;TZID=Asia/Hong_Kong:20260425T063652
DTSTART;TZID=Asia/Hong_Kong:20260313T073000
DTEND;TZID=Asia/Hong_Kong:19700101T080000
LOCATION:Meeting room 2 @ 3018
SUMMARY:Cantonese chit-chat 你今日“港”咗未？(For Chinese background students)
UID:2266
END:VEVENT
BEGIN:VEVENT
DTSTAMP;TZID=Asia/Hong_Kong:20260425T063652
DTSTART;TZID=Asia/Hong_Kong:20260320T073000
DTEND;TZID=Asia/Hong_Kong:19700101T080000
LOCATION:Meeting room 2 @ 3018
SUMMARY:Cantonese chit-chat 你今日“港”咗未？(For Chinese background students)
UID:2266
END:VEVENT
BEGIN:VEVENT
DTSTAMP;TZID=Asia/Hong_Kong:20260425T063652
DTSTART;TZID=Asia/Hong_Kong:20260327T073000
DTEND;TZID=Asia/Hong_Kong:19700101T080000
LOCATION:Meeting room 2 @ 3018
SUMMARY:Cantonese chit-chat 你今日“港”咗未？(For Chinese background students)
UID:2266
END:VEVENT
BEGIN:VEVENT
DTSTAMP;TZID=Asia/Hong_Kong:20260425T063652
DTSTART;TZID=Asia/Hong_Kong:20260403T073000
DTEND;TZID=Asia/Hong_Kong:19700101T080000
LOCATION:Meeting room 2 @ 3018
SUMMARY:Cantonese chit-chat 你今日“港”咗未？(For Chinese background students)
UID:2266
END:VEVENT
BEGIN:VEVENT
DTSTAMP;TZID=Asia/Hong_Kong:20260425T063652
DTSTART;TZID=Asia/Hong_Kong:20260410T073000
DTEND;TZID=Asia/Hong_Kong:19700101T080000
LOCATION:Meeting room 2 @ 3018
SUMMARY:Cantonese chit-chat 你今日“港”咗未？(For Chinese background students)
UID:2266
END:VEVENT
BEGIN:VEVENT
DTSTAMP;TZID=Asia/Hong_Kong:20260425T063652
DTSTART;TZID=Asia/Hong_Kong:20260417T073000
DTEND;TZID=Asia/Hong_Kong:19700101T080000
LOCATION:Meeting room 2 @ 3018
SUMMARY:Cantonese chit-chat 你今日“港”咗未？(For Chinese background students)
UID:2266
END:VEVENT
BEGIN:VEVENT
DTSTAMP;TZID=Asia/Hong_Kong:20260425T063652
DTSTART;TZID=Asia/Hong_Kong:20260424T073000
DTEND;TZID=Asia/Hong_Kong:19700101T080000
LOCATION:Meeting room 2 @ 3018
SUMMARY:Cantonese chit-chat 你今日“港”咗未？(For Chinese background students)
UID:2266
END:VEVENT
BEGIN:VEVENT
DTSTAMP;TZID=Asia/Hong_Kong:20260425T063652
DTSTART;TZID=Asia/Hong_Kong:20260501T073000
DTEND;TZID=Asia/Hong_Kong:19700101T080000
LOCATION:Meeting room 2 @ 3018
SUMMARY:Cantonese chit-chat 你今日“港”咗未？(For Chinese background students)
UID:2266
END:VEVENT
BEGIN:VEVENT
DTSTAMP;TZID=Asia/Hong_Kong:20260425T063652
DTSTART;TZID=Asia/Hong_Kong:20260508T073000
DTEND;TZID=Asia/Hong_Kong:19700101T080000
LOCATION:Meeting room 2 @ 3018
SUMMARY:Cantonese chit-chat 你今日“港”咗未？(For Chinese background students)
UID:2266
END:VEVENT
END:VCALENDAR