BEGIN:VCALENDAR
PRODID:-//HKUST Drupal Platform//EN
VERSION:2.0
BEGIN:VTIMEZONE
TZID:Asia/Hong_Kong
BEGIN:STANDARD
DTSTART:20071104T020000
TZOFFSETFROM:+0700
TZOFFSETTO:+0800
TZNAME:HKT
END:STANDARD
END:VTIMEZONE
BEGIN:VEVENT
DTSTAMP;TZID=Asia/Hong_Kong:20260421T005140
DTSTART;TZID=Asia/Hong_Kong:20241009T120000
DTEND;TZID=Asia/Hong_Kong:20241009T133000
LOCATION:3006 (Lift 4)
SUMMARY:微粵曲創作—探索與分享    Creative Writing of Mini-Cantonese Operatic Songs — Exploration and Experience Sharing 
UID:2274
END:VEVENT
END:VCALENDAR