BEGIN:VCALENDAR
PRODID:-//HKUST Drupal Platform//EN
VERSION:2.0
BEGIN:VTIMEZONE
TZID:Asia/Hong_Kong
BEGIN:STANDARD
DTSTART:20071104T020000
TZOFFSETFROM:+0700
TZOFFSETTO:+0800
TZNAME:HKT
END:STANDARD
END:VTIMEZONE
BEGIN:VEVENT
DTSTAMP;TZID=Asia/Hong_Kong:20260422T205130
DTSTART;TZID=Asia/Hong_Kong:20250714T100000
DTEND;TZID=Asia/Hong_Kong:20250714T120000
LOCATION:Room 3006
SUMMARY:A Journey into Japanese Culture and Language (beginners) 2
UID:2354
END:VEVENT
BEGIN:VEVENT
DTSTAMP;TZID=Asia/Hong_Kong:20260422T205130
DTSTART;TZID=Asia/Hong_Kong:20250715T100000
DTEND;TZID=Asia/Hong_Kong:20250715T120000
LOCATION:Room 3006
SUMMARY:A Journey into Japanese Culture and Language (beginners) 2
UID:2354
END:VEVENT
BEGIN:VEVENT
DTSTAMP;TZID=Asia/Hong_Kong:20260422T205130
DTSTART;TZID=Asia/Hong_Kong:20250716T100000
DTEND;TZID=Asia/Hong_Kong:20250716T120000
LOCATION:Room 3006
SUMMARY:A Journey into Japanese Culture and Language (beginners) 2
UID:2354
END:VEVENT
BEGIN:VEVENT
DTSTAMP;TZID=Asia/Hong_Kong:20260422T205130
DTSTART;TZID=Asia/Hong_Kong:20250717T100000
DTEND;TZID=Asia/Hong_Kong:20250717T120000
LOCATION:Room 3006
SUMMARY:A Journey into Japanese Culture and Language (beginners) 2
UID:2354
END:VEVENT
BEGIN:VEVENT
DTSTAMP;TZID=Asia/Hong_Kong:20260422T205130
DTSTART;TZID=Asia/Hong_Kong:20250718T100000
DTEND;TZID=Asia/Hong_Kong:20250718T120000
LOCATION:Room 3006
SUMMARY:A Journey into Japanese Culture and Language (beginners) 2
UID:2354
END:VEVENT
END:VCALENDAR