BEGIN:VCALENDAR
PRODID:-//HKUST Drupal Platform//EN
VERSION:2.0
BEGIN:VTIMEZONE
TZID:Asia/Hong_Kong
BEGIN:STANDARD
DTSTART:20071104T020000
TZOFFSETFROM:+0700
TZOFFSETTO:+0800
TZNAME:HKT
END:STANDARD
END:VTIMEZONE
BEGIN:VEVENT
DTSTAMP;TZID=Asia/Hong_Kong:20260422T205130
DTSTART;TZID=Asia/Hong_Kong:20250916T163000
DTEND;TZID=Asia/Hong_Kong:20250916T183000
LOCATION:Room 3006 (Lift 3)
SUMMARY:I want to learn Japanese more - Intermediate
UID:2588
END:VEVENT
BEGIN:VEVENT
DTSTAMP;TZID=Asia/Hong_Kong:20260422T205130
DTSTART;TZID=Asia/Hong_Kong:20250917T163000
DTEND;TZID=Asia/Hong_Kong:20250917T183000
LOCATION:Room 3006 (Lift 3)
SUMMARY:I want to learn Japanese more - Intermediate
UID:2588
END:VEVENT
BEGIN:VEVENT
DTSTAMP;TZID=Asia/Hong_Kong:20260422T205130
DTSTART;TZID=Asia/Hong_Kong:20250918T163000
DTEND;TZID=Asia/Hong_Kong:20250918T183000
LOCATION:Room 3006 (Lift 3)
SUMMARY:I want to learn Japanese more - Intermediate
UID:2588
END:VEVENT
BEGIN:VEVENT
DTSTAMP;TZID=Asia/Hong_Kong:20260422T205130
DTSTART;TZID=Asia/Hong_Kong:20250919T163000
DTEND;TZID=Asia/Hong_Kong:20250919T183000
LOCATION:Room 3006 (Lift 3)
SUMMARY:I want to learn Japanese more - Intermediate
UID:2588
END:VEVENT
BEGIN:VEVENT
DTSTAMP;TZID=Asia/Hong_Kong:20260422T205130
DTSTART;TZID=Asia/Hong_Kong:20250920T163000
DTEND;TZID=Asia/Hong_Kong:20250920T183000
LOCATION:Room 3006 (Lift 3)
SUMMARY:I want to learn Japanese more - Intermediate
UID:2588
END:VEVENT
BEGIN:VEVENT
DTSTAMP;TZID=Asia/Hong_Kong:20260422T205130
DTSTART;TZID=Asia/Hong_Kong:20250921T163000
DTEND;TZID=Asia/Hong_Kong:20250921T183000
LOCATION:Room 3006 (Lift 3)
SUMMARY:I want to learn Japanese more - Intermediate
UID:2588
END:VEVENT
BEGIN:VEVENT
DTSTAMP;TZID=Asia/Hong_Kong:20260422T205130
DTSTART;TZID=Asia/Hong_Kong:20250922T163000
DTEND;TZID=Asia/Hong_Kong:20250922T183000
LOCATION:Room 3006 (Lift 3)
SUMMARY:I want to learn Japanese more - Intermediate
UID:2588
END:VEVENT
BEGIN:VEVENT
DTSTAMP;TZID=Asia/Hong_Kong:20260422T205130
DTSTART;TZID=Asia/Hong_Kong:20250923T163000
DTEND;TZID=Asia/Hong_Kong:20250923T183000
LOCATION:Room 3006 (Lift 3)
SUMMARY:I want to learn Japanese more - Intermediate
UID:2588
END:VEVENT
END:VCALENDAR