BEGIN:VCALENDAR
PRODID:-//HKUST Drupal Platform//EN
VERSION:2.0
BEGIN:VTIMEZONE
TZID:Asia/Hong_Kong
BEGIN:STANDARD
DTSTART:20071104T020000
TZOFFSETFROM:+0700
TZOFFSETTO:+0800
TZNAME:HKT
END:STANDARD
END:VTIMEZONE
BEGIN:VEVENT
DTSTAMP;TZID=Asia/Hong_Kong:20260422T205130
DTSTART;TZID=Asia/Hong_Kong:20251009T163000
DTEND;TZID=Asia/Hong_Kong:20251009T183000
LOCATION:Room 3006 (Lift 3)
SUMMARY:Japanese Language and related Culture through Anime & Pop Culture - Intermediate and Advanced Course
UID:2589
END:VEVENT
BEGIN:VEVENT
DTSTAMP;TZID=Asia/Hong_Kong:20260422T205130
DTSTART;TZID=Asia/Hong_Kong:20251010T163000
DTEND;TZID=Asia/Hong_Kong:20251010T183000
LOCATION:Room 3006 (Lift 3)
SUMMARY:Japanese Language and related Culture through Anime & Pop Culture - Intermediate and Advanced Course
UID:2589
END:VEVENT
BEGIN:VEVENT
DTSTAMP;TZID=Asia/Hong_Kong:20260422T205130
DTSTART;TZID=Asia/Hong_Kong:20251011T163000
DTEND;TZID=Asia/Hong_Kong:20251011T183000
LOCATION:Room 3006 (Lift 3)
SUMMARY:Japanese Language and related Culture through Anime & Pop Culture - Intermediate and Advanced Course
UID:2589
END:VEVENT
BEGIN:VEVENT
DTSTAMP;TZID=Asia/Hong_Kong:20260422T205130
DTSTART;TZID=Asia/Hong_Kong:20251012T163000
DTEND;TZID=Asia/Hong_Kong:20251012T183000
LOCATION:Room 3006 (Lift 3)
SUMMARY:Japanese Language and related Culture through Anime & Pop Culture - Intermediate and Advanced Course
UID:2589
END:VEVENT
BEGIN:VEVENT
DTSTAMP;TZID=Asia/Hong_Kong:20260422T205130
DTSTART;TZID=Asia/Hong_Kong:20251013T163000
DTEND;TZID=Asia/Hong_Kong:20251013T183000
LOCATION:Room 3006 (Lift 3)
SUMMARY:Japanese Language and related Culture through Anime & Pop Culture - Intermediate and Advanced Course
UID:2589
END:VEVENT
BEGIN:VEVENT
DTSTAMP;TZID=Asia/Hong_Kong:20260422T205130
DTSTART;TZID=Asia/Hong_Kong:20251014T163000
DTEND;TZID=Asia/Hong_Kong:20251014T183000
LOCATION:Room 3006 (Lift 3)
SUMMARY:Japanese Language and related Culture through Anime & Pop Culture - Intermediate and Advanced Course
UID:2589
END:VEVENT
BEGIN:VEVENT
DTSTAMP;TZID=Asia/Hong_Kong:20260422T205130
DTSTART;TZID=Asia/Hong_Kong:20251015T163000
DTEND;TZID=Asia/Hong_Kong:20251015T183000
LOCATION:Room 3006 (Lift 3)
SUMMARY:Japanese Language and related Culture through Anime & Pop Culture - Intermediate and Advanced Course
UID:2589
END:VEVENT
BEGIN:VEVENT
DTSTAMP;TZID=Asia/Hong_Kong:20260422T205130
DTSTART;TZID=Asia/Hong_Kong:20251016T163000
DTEND;TZID=Asia/Hong_Kong:20251016T183000
LOCATION:Room 3006 (Lift 3)
SUMMARY:Japanese Language and related Culture through Anime & Pop Culture - Intermediate and Advanced Course
UID:2589
END:VEVENT
END:VCALENDAR