BEGIN:VCALENDAR
PRODID:-//HKUST Drupal Platform//EN
VERSION:2.0
BEGIN:VTIMEZONE
TZID:Asia/Hong_Kong
BEGIN:STANDARD
DTSTART:20071104T020000
TZOFFSETFROM:+0700
TZOFFSETTO:+0800
TZNAME:HKT
END:STANDARD
END:VTIMEZONE
BEGIN:VEVENT
DTSTAMP;TZID=Asia/Hong_Kong:20260422T205130
DTSTART;TZID=Asia/Hong_Kong:20250917T093000
DTEND;TZID=Asia/Hong_Kong:20250917T123000
LOCATION:Room 3316 (lift 17/18)
SUMMARY:Speak Up! A Fun Journey into French Conversations! Part I
UID:2594
END:VEVENT
BEGIN:VEVENT
DTSTAMP;TZID=Asia/Hong_Kong:20260422T205130
DTSTART;TZID=Asia/Hong_Kong:20250924T093000
DTEND;TZID=Asia/Hong_Kong:20250924T123000
LOCATION:Room 3316 (lift 17/18)
SUMMARY:Speak Up! A Fun Journey into French Conversations! Part I
UID:2594
END:VEVENT
END:VCALENDAR