BEGIN:VCALENDAR
PRODID:-//HKUST Drupal Platform//EN
VERSION:2.0
BEGIN:VTIMEZONE
TZID:Asia/Hong_Kong
BEGIN:STANDARD
DTSTART:20071104T020000
TZOFFSETFROM:+0700
TZOFFSETTO:+0800
TZNAME:HKT
END:STANDARD
END:VTIMEZONE
BEGIN:VEVENT
DTSTAMP;TZID=Asia/Hong_Kong:20260423T080044
DTSTART;TZID=Asia/Hong_Kong:20260227T130000
DTEND;TZID=Asia/Hong_Kong:19700101T080000
LOCATION:Room 3401 (Lift 2); Room 3019A (Lift 2); Room 3301 (Lift 2)
SUMMARY:A Journey into Japanese Language and Culture - Part 1
UID:2740
END:VEVENT
BEGIN:VEVENT
DTSTAMP;TZID=Asia/Hong_Kong:20260423T080044
DTSTART;TZID=Asia/Hong_Kong:20260228T130000
DTEND;TZID=Asia/Hong_Kong:19700101T080000
LOCATION:Room 3401 (Lift 2); Room 3019A (Lift 2); Room 3301 (Lift 2)
SUMMARY:A Journey into Japanese Language and Culture - Part 1
UID:2740
END:VEVENT
BEGIN:VEVENT
DTSTAMP;TZID=Asia/Hong_Kong:20260423T080044
DTSTART;TZID=Asia/Hong_Kong:20260301T130000
DTEND;TZID=Asia/Hong_Kong:19700101T080000
LOCATION:Room 3401 (Lift 2); Room 3019A (Lift 2); Room 3301 (Lift 2)
SUMMARY:A Journey into Japanese Language and Culture - Part 1
UID:2740
END:VEVENT
BEGIN:VEVENT
DTSTAMP;TZID=Asia/Hong_Kong:20260423T080044
DTSTART;TZID=Asia/Hong_Kong:20260302T130000
DTEND;TZID=Asia/Hong_Kong:19700101T080000
LOCATION:Room 3401 (Lift 2); Room 3019A (Lift 2); Room 3301 (Lift 2)
SUMMARY:A Journey into Japanese Language and Culture - Part 1
UID:2740
END:VEVENT
BEGIN:VEVENT
DTSTAMP;TZID=Asia/Hong_Kong:20260423T080044
DTSTART;TZID=Asia/Hong_Kong:20260303T130000
DTEND;TZID=Asia/Hong_Kong:19700101T080000
LOCATION:Room 3401 (Lift 2); Room 3019A (Lift 2); Room 3301 (Lift 2)
SUMMARY:A Journey into Japanese Language and Culture - Part 1
UID:2740
END:VEVENT
BEGIN:VEVENT
DTSTAMP;TZID=Asia/Hong_Kong:20260423T080044
DTSTART;TZID=Asia/Hong_Kong:20260304T130000
DTEND;TZID=Asia/Hong_Kong:19700101T080000
LOCATION:Room 3401 (Lift 2); Room 3019A (Lift 2); Room 3301 (Lift 2)
SUMMARY:A Journey into Japanese Language and Culture - Part 1
UID:2740
END:VEVENT
BEGIN:VEVENT
DTSTAMP;TZID=Asia/Hong_Kong:20260423T080044
DTSTART;TZID=Asia/Hong_Kong:20260305T130000
DTEND;TZID=Asia/Hong_Kong:19700101T080000
LOCATION:Room 3401 (Lift 2); Room 3019A (Lift 2); Room 3301 (Lift 2)
SUMMARY:A Journey into Japanese Language and Culture - Part 1
UID:2740
END:VEVENT
BEGIN:VEVENT
DTSTAMP;TZID=Asia/Hong_Kong:20260423T080044
DTSTART;TZID=Asia/Hong_Kong:20260306T130000
DTEND;TZID=Asia/Hong_Kong:19700101T080000
LOCATION:Room 3401 (Lift 2); Room 3019A (Lift 2); Room 3301 (Lift 2)
SUMMARY:A Journey into Japanese Language and Culture - Part 1
UID:2740
END:VEVENT
END:VCALENDAR