BEGIN:VCALENDAR
PRODID:-//HKUST Drupal Platform//EN
VERSION:2.0
BEGIN:VTIMEZONE
TZID:Asia/Hong_Kong
BEGIN:STANDARD
DTSTART:20071104T020000
TZOFFSETFROM:+0700
TZOFFSETTO:+0800
TZNAME:HKT
END:STANDARD
END:VTIMEZONE
BEGIN:VEVENT
DTSTAMP;TZID=Asia/Hong_Kong:20260425T034616
DTSTART;TZID=Asia/Hong_Kong:20260203T073000
DTEND;TZID=Asia/Hong_Kong:19700101T080000
LOCATION:Meeting room 2 @ 3018
SUMMARY:Cantonese chit-chat 你今日“港”咗未？(For Non-Chinese background students)
UID:2748
END:VEVENT
BEGIN:VEVENT
DTSTAMP;TZID=Asia/Hong_Kong:20260425T034616
DTSTART;TZID=Asia/Hong_Kong:20260204T073000
DTEND;TZID=Asia/Hong_Kong:19700101T080000
LOCATION:Meeting room 2 @ 3018
SUMMARY:Cantonese chit-chat 你今日“港”咗未？(For Non-Chinese background students)
UID:2748
END:VEVENT
BEGIN:VEVENT
DTSTAMP;TZID=Asia/Hong_Kong:20260425T034616
DTSTART;TZID=Asia/Hong_Kong:20260205T073000
DTEND;TZID=Asia/Hong_Kong:19700101T080000
LOCATION:Meeting room 2 @ 3018
SUMMARY:Cantonese chit-chat 你今日“港”咗未？(For Non-Chinese background students)
UID:2748
END:VEVENT
BEGIN:VEVENT
DTSTAMP;TZID=Asia/Hong_Kong:20260425T034616
DTSTART;TZID=Asia/Hong_Kong:20260206T073000
DTEND;TZID=Asia/Hong_Kong:19700101T080000
LOCATION:Meeting room 2 @ 3018
SUMMARY:Cantonese chit-chat 你今日“港”咗未？(For Non-Chinese background students)
UID:2748
END:VEVENT
BEGIN:VEVENT
DTSTAMP;TZID=Asia/Hong_Kong:20260425T034616
DTSTART;TZID=Asia/Hong_Kong:20260207T073000
DTEND;TZID=Asia/Hong_Kong:19700101T080000
LOCATION:Meeting room 2 @ 3018
SUMMARY:Cantonese chit-chat 你今日“港”咗未？(For Non-Chinese background students)
UID:2748
END:VEVENT
BEGIN:VEVENT
DTSTAMP;TZID=Asia/Hong_Kong:20260425T034616
DTSTART;TZID=Asia/Hong_Kong:20260208T073000
DTEND;TZID=Asia/Hong_Kong:19700101T080000
LOCATION:Meeting room 2 @ 3018
SUMMARY:Cantonese chit-chat 你今日“港”咗未？(For Non-Chinese background students)
UID:2748
END:VEVENT
BEGIN:VEVENT
DTSTAMP;TZID=Asia/Hong_Kong:20260425T034616
DTSTART;TZID=Asia/Hong_Kong:20260209T073000
DTEND;TZID=Asia/Hong_Kong:19700101T080000
LOCATION:Meeting room 2 @ 3018
SUMMARY:Cantonese chit-chat 你今日“港”咗未？(For Non-Chinese background students)
UID:2748
END:VEVENT
BEGIN:VEVENT
DTSTAMP;TZID=Asia/Hong_Kong:20260425T034616
DTSTART;TZID=Asia/Hong_Kong:20260210T073000
DTEND;TZID=Asia/Hong_Kong:19700101T080000
LOCATION:Meeting room 2 @ 3018
SUMMARY:Cantonese chit-chat 你今日“港”咗未？(For Non-Chinese background students)
UID:2748
END:VEVENT
BEGIN:VEVENT
DTSTAMP;TZID=Asia/Hong_Kong:20260425T034616
DTSTART;TZID=Asia/Hong_Kong:20260211T073000
DTEND;TZID=Asia/Hong_Kong:19700101T080000
LOCATION:Meeting room 2 @ 3018
SUMMARY:Cantonese chit-chat 你今日“港”咗未？(For Non-Chinese background students)
UID:2748
END:VEVENT
BEGIN:VEVENT
DTSTAMP;TZID=Asia/Hong_Kong:20260425T034616
DTSTART;TZID=Asia/Hong_Kong:20260212T073000
DTEND;TZID=Asia/Hong_Kong:19700101T080000
LOCATION:Meeting room 2 @ 3018
SUMMARY:Cantonese chit-chat 你今日“港”咗未？(For Non-Chinese background students)
UID:2748
END:VEVENT
BEGIN:VEVENT
DTSTAMP;TZID=Asia/Hong_Kong:20260425T034616
DTSTART;TZID=Asia/Hong_Kong:20260213T073000
DTEND;TZID=Asia/Hong_Kong:19700101T080000
LOCATION:Meeting room 2 @ 3018
SUMMARY:Cantonese chit-chat 你今日“港”咗未？(For Non-Chinese background students)
UID:2748
END:VEVENT
BEGIN:VEVENT
DTSTAMP;TZID=Asia/Hong_Kong:20260425T034616
DTSTART;TZID=Asia/Hong_Kong:20260214T073000
DTEND;TZID=Asia/Hong_Kong:19700101T080000
LOCATION:Meeting room 2 @ 3018
SUMMARY:Cantonese chit-chat 你今日“港”咗未？(For Non-Chinese background students)
UID:2748
END:VEVENT
BEGIN:VEVENT
DTSTAMP;TZID=Asia/Hong_Kong:20260425T034616
DTSTART;TZID=Asia/Hong_Kong:20260215T073000
DTEND;TZID=Asia/Hong_Kong:19700101T080000
LOCATION:Meeting room 2 @ 3018
SUMMARY:Cantonese chit-chat 你今日“港”咗未？(For Non-Chinese background students)
UID:2748
END:VEVENT
BEGIN:VEVENT
DTSTAMP;TZID=Asia/Hong_Kong:20260425T034616
DTSTART;TZID=Asia/Hong_Kong:20260216T073000
DTEND;TZID=Asia/Hong_Kong:19700101T080000
LOCATION:Meeting room 2 @ 3018
SUMMARY:Cantonese chit-chat 你今日“港”咗未？(For Non-Chinese background students)
UID:2748
END:VEVENT
BEGIN:VEVENT
DTSTAMP;TZID=Asia/Hong_Kong:20260425T034616
DTSTART;TZID=Asia/Hong_Kong:20260217T073000
DTEND;TZID=Asia/Hong_Kong:19700101T080000
LOCATION:Meeting room 2 @ 3018
SUMMARY:Cantonese chit-chat 你今日“港”咗未？(For Non-Chinese background students)
UID:2748
END:VEVENT
BEGIN:VEVENT
DTSTAMP;TZID=Asia/Hong_Kong:20260425T034616
DTSTART;TZID=Asia/Hong_Kong:20260218T073000
DTEND;TZID=Asia/Hong_Kong:19700101T080000
LOCATION:Meeting room 2 @ 3018
SUMMARY:Cantonese chit-chat 你今日“港”咗未？(For Non-Chinese background students)
UID:2748
END:VEVENT
BEGIN:VEVENT
DTSTAMP;TZID=Asia/Hong_Kong:20260425T034616
DTSTART;TZID=Asia/Hong_Kong:20260219T073000
DTEND;TZID=Asia/Hong_Kong:19700101T080000
LOCATION:Meeting room 2 @ 3018
SUMMARY:Cantonese chit-chat 你今日“港”咗未？(For Non-Chinese background students)
UID:2748
END:VEVENT
BEGIN:VEVENT
DTSTAMP;TZID=Asia/Hong_Kong:20260425T034616
DTSTART;TZID=Asia/Hong_Kong:20260220T073000
DTEND;TZID=Asia/Hong_Kong:19700101T080000
LOCATION:Meeting room 2 @ 3018
SUMMARY:Cantonese chit-chat 你今日“港”咗未？(For Non-Chinese background students)
UID:2748
END:VEVENT
BEGIN:VEVENT
DTSTAMP;TZID=Asia/Hong_Kong:20260425T034616
DTSTART;TZID=Asia/Hong_Kong:20260221T073000
DTEND;TZID=Asia/Hong_Kong:19700101T080000
LOCATION:Meeting room 2 @ 3018
SUMMARY:Cantonese chit-chat 你今日“港”咗未？(For Non-Chinese background students)
UID:2748
END:VEVENT
BEGIN:VEVENT
DTSTAMP;TZID=Asia/Hong_Kong:20260425T034616
DTSTART;TZID=Asia/Hong_Kong:20260222T073000
DTEND;TZID=Asia/Hong_Kong:19700101T080000
LOCATION:Meeting room 2 @ 3018
SUMMARY:Cantonese chit-chat 你今日“港”咗未？(For Non-Chinese background students)
UID:2748
END:VEVENT
BEGIN:VEVENT
DTSTAMP;TZID=Asia/Hong_Kong:20260425T034616
DTSTART;TZID=Asia/Hong_Kong:20260223T073000
DTEND;TZID=Asia/Hong_Kong:19700101T080000
LOCATION:Meeting room 2 @ 3018
SUMMARY:Cantonese chit-chat 你今日“港”咗未？(For Non-Chinese background students)
UID:2748
END:VEVENT
BEGIN:VEVENT
DTSTAMP;TZID=Asia/Hong_Kong:20260425T034616
DTSTART;TZID=Asia/Hong_Kong:20260224T073000
DTEND;TZID=Asia/Hong_Kong:19700101T080000
LOCATION:Meeting room 2 @ 3018
SUMMARY:Cantonese chit-chat 你今日“港”咗未？(For Non-Chinese background students)
UID:2748
END:VEVENT
BEGIN:VEVENT
DTSTAMP;TZID=Asia/Hong_Kong:20260425T034616
DTSTART;TZID=Asia/Hong_Kong:20260225T073000
DTEND;TZID=Asia/Hong_Kong:19700101T080000
LOCATION:Meeting room 2 @ 3018
SUMMARY:Cantonese chit-chat 你今日“港”咗未？(For Non-Chinese background students)
UID:2748
END:VEVENT
BEGIN:VEVENT
DTSTAMP;TZID=Asia/Hong_Kong:20260425T034616
DTSTART;TZID=Asia/Hong_Kong:20260226T073000
DTEND;TZID=Asia/Hong_Kong:19700101T080000
LOCATION:Meeting room 2 @ 3018
SUMMARY:Cantonese chit-chat 你今日“港”咗未？(For Non-Chinese background students)
UID:2748
END:VEVENT
BEGIN:VEVENT
DTSTAMP;TZID=Asia/Hong_Kong:20260425T034616
DTSTART;TZID=Asia/Hong_Kong:20260227T073000
DTEND;TZID=Asia/Hong_Kong:19700101T080000
LOCATION:Meeting room 2 @ 3018
SUMMARY:Cantonese chit-chat 你今日“港”咗未？(For Non-Chinese background students)
UID:2748
END:VEVENT
BEGIN:VEVENT
DTSTAMP;TZID=Asia/Hong_Kong:20260425T034616
DTSTART;TZID=Asia/Hong_Kong:20260228T073000
DTEND;TZID=Asia/Hong_Kong:19700101T080000
LOCATION:Meeting room 2 @ 3018
SUMMARY:Cantonese chit-chat 你今日“港”咗未？(For Non-Chinese background students)
UID:2748
END:VEVENT
BEGIN:VEVENT
DTSTAMP;TZID=Asia/Hong_Kong:20260425T034616
DTSTART;TZID=Asia/Hong_Kong:20260301T073000
DTEND;TZID=Asia/Hong_Kong:19700101T080000
LOCATION:Meeting room 2 @ 3018
SUMMARY:Cantonese chit-chat 你今日“港”咗未？(For Non-Chinese background students)
UID:2748
END:VEVENT
BEGIN:VEVENT
DTSTAMP;TZID=Asia/Hong_Kong:20260425T034616
DTSTART;TZID=Asia/Hong_Kong:20260302T073000
DTEND;TZID=Asia/Hong_Kong:19700101T080000
LOCATION:Meeting room 2 @ 3018
SUMMARY:Cantonese chit-chat 你今日“港”咗未？(For Non-Chinese background students)
UID:2748
END:VEVENT
BEGIN:VEVENT
DTSTAMP;TZID=Asia/Hong_Kong:20260425T034616
DTSTART;TZID=Asia/Hong_Kong:20260303T073000
DTEND;TZID=Asia/Hong_Kong:19700101T080000
LOCATION:Meeting room 2 @ 3018
SUMMARY:Cantonese chit-chat 你今日“港”咗未？(For Non-Chinese background students)
UID:2748
END:VEVENT
BEGIN:VEVENT
DTSTAMP;TZID=Asia/Hong_Kong:20260425T034616
DTSTART;TZID=Asia/Hong_Kong:20260304T073000
DTEND;TZID=Asia/Hong_Kong:19700101T080000
LOCATION:Meeting room 2 @ 3018
SUMMARY:Cantonese chit-chat 你今日“港”咗未？(For Non-Chinese background students)
UID:2748
END:VEVENT
BEGIN:VEVENT
DTSTAMP;TZID=Asia/Hong_Kong:20260425T034616
DTSTART;TZID=Asia/Hong_Kong:20260305T073000
DTEND;TZID=Asia/Hong_Kong:19700101T080000
LOCATION:Meeting room 2 @ 3018
SUMMARY:Cantonese chit-chat 你今日“港”咗未？(For Non-Chinese background students)
UID:2748
END:VEVENT
BEGIN:VEVENT
DTSTAMP;TZID=Asia/Hong_Kong:20260425T034616
DTSTART;TZID=Asia/Hong_Kong:20260306T073000
DTEND;TZID=Asia/Hong_Kong:19700101T080000
LOCATION:Meeting room 2 @ 3018
SUMMARY:Cantonese chit-chat 你今日“港”咗未？(For Non-Chinese background students)
UID:2748
END:VEVENT
BEGIN:VEVENT
DTSTAMP;TZID=Asia/Hong_Kong:20260425T034616
DTSTART;TZID=Asia/Hong_Kong:20260307T073000
DTEND;TZID=Asia/Hong_Kong:19700101T080000
LOCATION:Meeting room 2 @ 3018
SUMMARY:Cantonese chit-chat 你今日“港”咗未？(For Non-Chinese background students)
UID:2748
END:VEVENT
BEGIN:VEVENT
DTSTAMP;TZID=Asia/Hong_Kong:20260425T034616
DTSTART;TZID=Asia/Hong_Kong:20260308T073000
DTEND;TZID=Asia/Hong_Kong:19700101T080000
LOCATION:Meeting room 2 @ 3018
SUMMARY:Cantonese chit-chat 你今日“港”咗未？(For Non-Chinese background students)
UID:2748
END:VEVENT
BEGIN:VEVENT
DTSTAMP;TZID=Asia/Hong_Kong:20260425T034616
DTSTART;TZID=Asia/Hong_Kong:20260309T073000
DTEND;TZID=Asia/Hong_Kong:19700101T080000
LOCATION:Meeting room 2 @ 3018
SUMMARY:Cantonese chit-chat 你今日“港”咗未？(For Non-Chinese background students)
UID:2748
END:VEVENT
BEGIN:VEVENT
DTSTAMP;TZID=Asia/Hong_Kong:20260425T034616
DTSTART;TZID=Asia/Hong_Kong:20260310T073000
DTEND;TZID=Asia/Hong_Kong:19700101T080000
LOCATION:Meeting room 2 @ 3018
SUMMARY:Cantonese chit-chat 你今日“港”咗未？(For Non-Chinese background students)
UID:2748
END:VEVENT
BEGIN:VEVENT
DTSTAMP;TZID=Asia/Hong_Kong:20260425T034616
DTSTART;TZID=Asia/Hong_Kong:20260311T073000
DTEND;TZID=Asia/Hong_Kong:19700101T080000
LOCATION:Meeting room 2 @ 3018
SUMMARY:Cantonese chit-chat 你今日“港”咗未？(For Non-Chinese background students)
UID:2748
END:VEVENT
BEGIN:VEVENT
DTSTAMP;TZID=Asia/Hong_Kong:20260425T034616
DTSTART;TZID=Asia/Hong_Kong:20260312T073000
DTEND;TZID=Asia/Hong_Kong:19700101T080000
LOCATION:Meeting room 2 @ 3018
SUMMARY:Cantonese chit-chat 你今日“港”咗未？(For Non-Chinese background students)
UID:2748
END:VEVENT
BEGIN:VEVENT
DTSTAMP;TZID=Asia/Hong_Kong:20260425T034616
DTSTART;TZID=Asia/Hong_Kong:20260313T073000
DTEND;TZID=Asia/Hong_Kong:19700101T080000
LOCATION:Meeting room 2 @ 3018
SUMMARY:Cantonese chit-chat 你今日“港”咗未？(For Non-Chinese background students)
UID:2748
END:VEVENT
BEGIN:VEVENT
DTSTAMP;TZID=Asia/Hong_Kong:20260425T034616
DTSTART;TZID=Asia/Hong_Kong:20260314T073000
DTEND;TZID=Asia/Hong_Kong:19700101T080000
LOCATION:Meeting room 2 @ 3018
SUMMARY:Cantonese chit-chat 你今日“港”咗未？(For Non-Chinese background students)
UID:2748
END:VEVENT
BEGIN:VEVENT
DTSTAMP;TZID=Asia/Hong_Kong:20260425T034616
DTSTART;TZID=Asia/Hong_Kong:20260315T073000
DTEND;TZID=Asia/Hong_Kong:19700101T080000
LOCATION:Meeting room 2 @ 3018
SUMMARY:Cantonese chit-chat 你今日“港”咗未？(For Non-Chinese background students)
UID:2748
END:VEVENT
BEGIN:VEVENT
DTSTAMP;TZID=Asia/Hong_Kong:20260425T034616
DTSTART;TZID=Asia/Hong_Kong:20260316T073000
DTEND;TZID=Asia/Hong_Kong:19700101T080000
LOCATION:Meeting room 2 @ 3018
SUMMARY:Cantonese chit-chat 你今日“港”咗未？(For Non-Chinese background students)
UID:2748
END:VEVENT
BEGIN:VEVENT
DTSTAMP;TZID=Asia/Hong_Kong:20260425T034616
DTSTART;TZID=Asia/Hong_Kong:20260317T073000
DTEND;TZID=Asia/Hong_Kong:19700101T080000
LOCATION:Meeting room 2 @ 3018
SUMMARY:Cantonese chit-chat 你今日“港”咗未？(For Non-Chinese background students)
UID:2748
END:VEVENT
BEGIN:VEVENT
DTSTAMP;TZID=Asia/Hong_Kong:20260425T034616
DTSTART;TZID=Asia/Hong_Kong:20260318T073000
DTEND;TZID=Asia/Hong_Kong:19700101T080000
LOCATION:Meeting room 2 @ 3018
SUMMARY:Cantonese chit-chat 你今日“港”咗未？(For Non-Chinese background students)
UID:2748
END:VEVENT
BEGIN:VEVENT
DTSTAMP;TZID=Asia/Hong_Kong:20260425T034616
DTSTART;TZID=Asia/Hong_Kong:20260319T073000
DTEND;TZID=Asia/Hong_Kong:19700101T080000
LOCATION:Meeting room 2 @ 3018
SUMMARY:Cantonese chit-chat 你今日“港”咗未？(For Non-Chinese background students)
UID:2748
END:VEVENT
BEGIN:VEVENT
DTSTAMP;TZID=Asia/Hong_Kong:20260425T034616
DTSTART;TZID=Asia/Hong_Kong:20260320T073000
DTEND;TZID=Asia/Hong_Kong:19700101T080000
LOCATION:Meeting room 2 @ 3018
SUMMARY:Cantonese chit-chat 你今日“港”咗未？(For Non-Chinese background students)
UID:2748
END:VEVENT
BEGIN:VEVENT
DTSTAMP;TZID=Asia/Hong_Kong:20260425T034616
DTSTART;TZID=Asia/Hong_Kong:20260321T073000
DTEND;TZID=Asia/Hong_Kong:19700101T080000
LOCATION:Meeting room 2 @ 3018
SUMMARY:Cantonese chit-chat 你今日“港”咗未？(For Non-Chinese background students)
UID:2748
END:VEVENT
BEGIN:VEVENT
DTSTAMP;TZID=Asia/Hong_Kong:20260425T034616
DTSTART;TZID=Asia/Hong_Kong:20260322T073000
DTEND;TZID=Asia/Hong_Kong:19700101T080000
LOCATION:Meeting room 2 @ 3018
SUMMARY:Cantonese chit-chat 你今日“港”咗未？(For Non-Chinese background students)
UID:2748
END:VEVENT
BEGIN:VEVENT
DTSTAMP;TZID=Asia/Hong_Kong:20260425T034616
DTSTART;TZID=Asia/Hong_Kong:20260323T073000
DTEND;TZID=Asia/Hong_Kong:19700101T080000
LOCATION:Meeting room 2 @ 3018
SUMMARY:Cantonese chit-chat 你今日“港”咗未？(For Non-Chinese background students)
UID:2748
END:VEVENT
BEGIN:VEVENT
DTSTAMP;TZID=Asia/Hong_Kong:20260425T034616
DTSTART;TZID=Asia/Hong_Kong:20260324T073000
DTEND;TZID=Asia/Hong_Kong:19700101T080000
LOCATION:Meeting room 2 @ 3018
SUMMARY:Cantonese chit-chat 你今日“港”咗未？(For Non-Chinese background students)
UID:2748
END:VEVENT
BEGIN:VEVENT
DTSTAMP;TZID=Asia/Hong_Kong:20260425T034616
DTSTART;TZID=Asia/Hong_Kong:20260325T073000
DTEND;TZID=Asia/Hong_Kong:19700101T080000
LOCATION:Meeting room 2 @ 3018
SUMMARY:Cantonese chit-chat 你今日“港”咗未？(For Non-Chinese background students)
UID:2748
END:VEVENT
BEGIN:VEVENT
DTSTAMP;TZID=Asia/Hong_Kong:20260425T034616
DTSTART;TZID=Asia/Hong_Kong:20260326T073000
DTEND;TZID=Asia/Hong_Kong:19700101T080000
LOCATION:Meeting room 2 @ 3018
SUMMARY:Cantonese chit-chat 你今日“港”咗未？(For Non-Chinese background students)
UID:2748
END:VEVENT
BEGIN:VEVENT
DTSTAMP;TZID=Asia/Hong_Kong:20260425T034616
DTSTART;TZID=Asia/Hong_Kong:20260327T073000
DTEND;TZID=Asia/Hong_Kong:19700101T080000
LOCATION:Meeting room 2 @ 3018
SUMMARY:Cantonese chit-chat 你今日“港”咗未？(For Non-Chinese background students)
UID:2748
END:VEVENT
BEGIN:VEVENT
DTSTAMP;TZID=Asia/Hong_Kong:20260425T034616
DTSTART;TZID=Asia/Hong_Kong:20260328T073000
DTEND;TZID=Asia/Hong_Kong:19700101T080000
LOCATION:Meeting room 2 @ 3018
SUMMARY:Cantonese chit-chat 你今日“港”咗未？(For Non-Chinese background students)
UID:2748
END:VEVENT
BEGIN:VEVENT
DTSTAMP;TZID=Asia/Hong_Kong:20260425T034616
DTSTART;TZID=Asia/Hong_Kong:20260329T073000
DTEND;TZID=Asia/Hong_Kong:19700101T080000
LOCATION:Meeting room 2 @ 3018
SUMMARY:Cantonese chit-chat 你今日“港”咗未？(For Non-Chinese background students)
UID:2748
END:VEVENT
BEGIN:VEVENT
DTSTAMP;TZID=Asia/Hong_Kong:20260425T034616
DTSTART;TZID=Asia/Hong_Kong:20260330T073000
DTEND;TZID=Asia/Hong_Kong:19700101T080000
LOCATION:Meeting room 2 @ 3018
SUMMARY:Cantonese chit-chat 你今日“港”咗未？(For Non-Chinese background students)
UID:2748
END:VEVENT
BEGIN:VEVENT
DTSTAMP;TZID=Asia/Hong_Kong:20260425T034616
DTSTART;TZID=Asia/Hong_Kong:20260331T073000
DTEND;TZID=Asia/Hong_Kong:19700101T080000
LOCATION:Meeting room 2 @ 3018
SUMMARY:Cantonese chit-chat 你今日“港”咗未？(For Non-Chinese background students)
UID:2748
END:VEVENT
BEGIN:VEVENT
DTSTAMP;TZID=Asia/Hong_Kong:20260425T034616
DTSTART;TZID=Asia/Hong_Kong:20260401T073000
DTEND;TZID=Asia/Hong_Kong:19700101T080000
LOCATION:Meeting room 2 @ 3018
SUMMARY:Cantonese chit-chat 你今日“港”咗未？(For Non-Chinese background students)
UID:2748
END:VEVENT
BEGIN:VEVENT
DTSTAMP;TZID=Asia/Hong_Kong:20260425T034616
DTSTART;TZID=Asia/Hong_Kong:20260402T073000
DTEND;TZID=Asia/Hong_Kong:19700101T080000
LOCATION:Meeting room 2 @ 3018
SUMMARY:Cantonese chit-chat 你今日“港”咗未？(For Non-Chinese background students)
UID:2748
END:VEVENT
BEGIN:VEVENT
DTSTAMP;TZID=Asia/Hong_Kong:20260425T034616
DTSTART;TZID=Asia/Hong_Kong:20260403T073000
DTEND;TZID=Asia/Hong_Kong:19700101T080000
LOCATION:Meeting room 2 @ 3018
SUMMARY:Cantonese chit-chat 你今日“港”咗未？(For Non-Chinese background students)
UID:2748
END:VEVENT
BEGIN:VEVENT
DTSTAMP;TZID=Asia/Hong_Kong:20260425T034616
DTSTART;TZID=Asia/Hong_Kong:20260404T073000
DTEND;TZID=Asia/Hong_Kong:19700101T080000
LOCATION:Meeting room 2 @ 3018
SUMMARY:Cantonese chit-chat 你今日“港”咗未？(For Non-Chinese background students)
UID:2748
END:VEVENT
BEGIN:VEVENT
DTSTAMP;TZID=Asia/Hong_Kong:20260425T034616
DTSTART;TZID=Asia/Hong_Kong:20260405T073000
DTEND;TZID=Asia/Hong_Kong:19700101T080000
LOCATION:Meeting room 2 @ 3018
SUMMARY:Cantonese chit-chat 你今日“港”咗未？(For Non-Chinese background students)
UID:2748
END:VEVENT
BEGIN:VEVENT
DTSTAMP;TZID=Asia/Hong_Kong:20260425T034616
DTSTART;TZID=Asia/Hong_Kong:20260406T073000
DTEND;TZID=Asia/Hong_Kong:19700101T080000
LOCATION:Meeting room 2 @ 3018
SUMMARY:Cantonese chit-chat 你今日“港”咗未？(For Non-Chinese background students)
UID:2748
END:VEVENT
BEGIN:VEVENT
DTSTAMP;TZID=Asia/Hong_Kong:20260425T034616
DTSTART;TZID=Asia/Hong_Kong:20260407T073000
DTEND;TZID=Asia/Hong_Kong:19700101T080000
LOCATION:Meeting room 2 @ 3018
SUMMARY:Cantonese chit-chat 你今日“港”咗未？(For Non-Chinese background students)
UID:2748
END:VEVENT
BEGIN:VEVENT
DTSTAMP;TZID=Asia/Hong_Kong:20260425T034616
DTSTART;TZID=Asia/Hong_Kong:20260408T073000
DTEND;TZID=Asia/Hong_Kong:19700101T080000
LOCATION:Meeting room 2 @ 3018
SUMMARY:Cantonese chit-chat 你今日“港”咗未？(For Non-Chinese background students)
UID:2748
END:VEVENT
BEGIN:VEVENT
DTSTAMP;TZID=Asia/Hong_Kong:20260425T034616
DTSTART;TZID=Asia/Hong_Kong:20260409T073000
DTEND;TZID=Asia/Hong_Kong:19700101T080000
LOCATION:Meeting room 2 @ 3018
SUMMARY:Cantonese chit-chat 你今日“港”咗未？(For Non-Chinese background students)
UID:2748
END:VEVENT
BEGIN:VEVENT
DTSTAMP;TZID=Asia/Hong_Kong:20260425T034616
DTSTART;TZID=Asia/Hong_Kong:20260410T073000
DTEND;TZID=Asia/Hong_Kong:19700101T080000
LOCATION:Meeting room 2 @ 3018
SUMMARY:Cantonese chit-chat 你今日“港”咗未？(For Non-Chinese background students)
UID:2748
END:VEVENT
BEGIN:VEVENT
DTSTAMP;TZID=Asia/Hong_Kong:20260425T034616
DTSTART;TZID=Asia/Hong_Kong:20260411T073000
DTEND;TZID=Asia/Hong_Kong:19700101T080000
LOCATION:Meeting room 2 @ 3018
SUMMARY:Cantonese chit-chat 你今日“港”咗未？(For Non-Chinese background students)
UID:2748
END:VEVENT
BEGIN:VEVENT
DTSTAMP;TZID=Asia/Hong_Kong:20260425T034616
DTSTART;TZID=Asia/Hong_Kong:20260412T073000
DTEND;TZID=Asia/Hong_Kong:19700101T080000
LOCATION:Meeting room 2 @ 3018
SUMMARY:Cantonese chit-chat 你今日“港”咗未？(For Non-Chinese background students)
UID:2748
END:VEVENT
BEGIN:VEVENT
DTSTAMP;TZID=Asia/Hong_Kong:20260425T034616
DTSTART;TZID=Asia/Hong_Kong:20260413T073000
DTEND;TZID=Asia/Hong_Kong:19700101T080000
LOCATION:Meeting room 2 @ 3018
SUMMARY:Cantonese chit-chat 你今日“港”咗未？(For Non-Chinese background students)
UID:2748
END:VEVENT
BEGIN:VEVENT
DTSTAMP;TZID=Asia/Hong_Kong:20260425T034616
DTSTART;TZID=Asia/Hong_Kong:20260414T073000
DTEND;TZID=Asia/Hong_Kong:19700101T080000
LOCATION:Meeting room 2 @ 3018
SUMMARY:Cantonese chit-chat 你今日“港”咗未？(For Non-Chinese background students)
UID:2748
END:VEVENT
BEGIN:VEVENT
DTSTAMP;TZID=Asia/Hong_Kong:20260425T034616
DTSTART;TZID=Asia/Hong_Kong:20260415T073000
DTEND;TZID=Asia/Hong_Kong:19700101T080000
LOCATION:Meeting room 2 @ 3018
SUMMARY:Cantonese chit-chat 你今日“港”咗未？(For Non-Chinese background students)
UID:2748
END:VEVENT
BEGIN:VEVENT
DTSTAMP;TZID=Asia/Hong_Kong:20260425T034616
DTSTART;TZID=Asia/Hong_Kong:20260416T073000
DTEND;TZID=Asia/Hong_Kong:19700101T080000
LOCATION:Meeting room 2 @ 3018
SUMMARY:Cantonese chit-chat 你今日“港”咗未？(For Non-Chinese background students)
UID:2748
END:VEVENT
BEGIN:VEVENT
DTSTAMP;TZID=Asia/Hong_Kong:20260425T034616
DTSTART;TZID=Asia/Hong_Kong:20260417T073000
DTEND;TZID=Asia/Hong_Kong:19700101T080000
LOCATION:Meeting room 2 @ 3018
SUMMARY:Cantonese chit-chat 你今日“港”咗未？(For Non-Chinese background students)
UID:2748
END:VEVENT
BEGIN:VEVENT
DTSTAMP;TZID=Asia/Hong_Kong:20260425T034616
DTSTART;TZID=Asia/Hong_Kong:20260418T073000
DTEND;TZID=Asia/Hong_Kong:19700101T080000
LOCATION:Meeting room 2 @ 3018
SUMMARY:Cantonese chit-chat 你今日“港”咗未？(For Non-Chinese background students)
UID:2748
END:VEVENT
BEGIN:VEVENT
DTSTAMP;TZID=Asia/Hong_Kong:20260425T034616
DTSTART;TZID=Asia/Hong_Kong:20260419T073000
DTEND;TZID=Asia/Hong_Kong:19700101T080000
LOCATION:Meeting room 2 @ 3018
SUMMARY:Cantonese chit-chat 你今日“港”咗未？(For Non-Chinese background students)
UID:2748
END:VEVENT
BEGIN:VEVENT
DTSTAMP;TZID=Asia/Hong_Kong:20260425T034616
DTSTART;TZID=Asia/Hong_Kong:20260420T073000
DTEND;TZID=Asia/Hong_Kong:19700101T080000
LOCATION:Meeting room 2 @ 3018
SUMMARY:Cantonese chit-chat 你今日“港”咗未？(For Non-Chinese background students)
UID:2748
END:VEVENT
BEGIN:VEVENT
DTSTAMP;TZID=Asia/Hong_Kong:20260425T034616
DTSTART;TZID=Asia/Hong_Kong:20260421T073000
DTEND;TZID=Asia/Hong_Kong:19700101T080000
LOCATION:Meeting room 2 @ 3018
SUMMARY:Cantonese chit-chat 你今日“港”咗未？(For Non-Chinese background students)
UID:2748
END:VEVENT
BEGIN:VEVENT
DTSTAMP;TZID=Asia/Hong_Kong:20260425T034616
DTSTART;TZID=Asia/Hong_Kong:20260422T073000
DTEND;TZID=Asia/Hong_Kong:19700101T080000
LOCATION:Meeting room 2 @ 3018
SUMMARY:Cantonese chit-chat 你今日“港”咗未？(For Non-Chinese background students)
UID:2748
END:VEVENT
BEGIN:VEVENT
DTSTAMP;TZID=Asia/Hong_Kong:20260425T034616
DTSTART;TZID=Asia/Hong_Kong:20260423T073000
DTEND;TZID=Asia/Hong_Kong:19700101T080000
LOCATION:Meeting room 2 @ 3018
SUMMARY:Cantonese chit-chat 你今日“港”咗未？(For Non-Chinese background students)
UID:2748
END:VEVENT
BEGIN:VEVENT
DTSTAMP;TZID=Asia/Hong_Kong:20260425T034616
DTSTART;TZID=Asia/Hong_Kong:20260424T073000
DTEND;TZID=Asia/Hong_Kong:19700101T080000
LOCATION:Meeting room 2 @ 3018
SUMMARY:Cantonese chit-chat 你今日“港”咗未？(For Non-Chinese background students)
UID:2748
END:VEVENT
BEGIN:VEVENT
DTSTAMP;TZID=Asia/Hong_Kong:20260425T034616
DTSTART;TZID=Asia/Hong_Kong:20260425T073000
DTEND;TZID=Asia/Hong_Kong:19700101T080000
LOCATION:Meeting room 2 @ 3018
SUMMARY:Cantonese chit-chat 你今日“港”咗未？(For Non-Chinese background students)
UID:2748
END:VEVENT
BEGIN:VEVENT
DTSTAMP;TZID=Asia/Hong_Kong:20260425T034616
DTSTART;TZID=Asia/Hong_Kong:20260426T073000
DTEND;TZID=Asia/Hong_Kong:19700101T080000
LOCATION:Meeting room 2 @ 3018
SUMMARY:Cantonese chit-chat 你今日“港”咗未？(For Non-Chinese background students)
UID:2748
END:VEVENT
BEGIN:VEVENT
DTSTAMP;TZID=Asia/Hong_Kong:20260425T034616
DTSTART;TZID=Asia/Hong_Kong:20260427T073000
DTEND;TZID=Asia/Hong_Kong:19700101T080000
LOCATION:Meeting room 2 @ 3018
SUMMARY:Cantonese chit-chat 你今日“港”咗未？(For Non-Chinese background students)
UID:2748
END:VEVENT
BEGIN:VEVENT
DTSTAMP;TZID=Asia/Hong_Kong:20260425T034616
DTSTART;TZID=Asia/Hong_Kong:20260428T073000
DTEND;TZID=Asia/Hong_Kong:19700101T080000
LOCATION:Meeting room 2 @ 3018
SUMMARY:Cantonese chit-chat 你今日“港”咗未？(For Non-Chinese background students)
UID:2748
END:VEVENT
BEGIN:VEVENT
DTSTAMP;TZID=Asia/Hong_Kong:20260425T034616
DTSTART;TZID=Asia/Hong_Kong:20260429T073000
DTEND;TZID=Asia/Hong_Kong:19700101T080000
LOCATION:Meeting room 2 @ 3018
SUMMARY:Cantonese chit-chat 你今日“港”咗未？(For Non-Chinese background students)
UID:2748
END:VEVENT
BEGIN:VEVENT
DTSTAMP;TZID=Asia/Hong_Kong:20260425T034616
DTSTART;TZID=Asia/Hong_Kong:20260430T073000
DTEND;TZID=Asia/Hong_Kong:19700101T080000
LOCATION:Meeting room 2 @ 3018
SUMMARY:Cantonese chit-chat 你今日“港”咗未？(For Non-Chinese background students)
UID:2748
END:VEVENT
BEGIN:VEVENT
DTSTAMP;TZID=Asia/Hong_Kong:20260425T034616
DTSTART;TZID=Asia/Hong_Kong:20260501T073000
DTEND;TZID=Asia/Hong_Kong:19700101T080000
LOCATION:Meeting room 2 @ 3018
SUMMARY:Cantonese chit-chat 你今日“港”咗未？(For Non-Chinese background students)
UID:2748
END:VEVENT
BEGIN:VEVENT
DTSTAMP;TZID=Asia/Hong_Kong:20260425T034616
DTSTART;TZID=Asia/Hong_Kong:20260502T073000
DTEND;TZID=Asia/Hong_Kong:19700101T080000
LOCATION:Meeting room 2 @ 3018
SUMMARY:Cantonese chit-chat 你今日“港”咗未？(For Non-Chinese background students)
UID:2748
END:VEVENT
BEGIN:VEVENT
DTSTAMP;TZID=Asia/Hong_Kong:20260425T034616
DTSTART;TZID=Asia/Hong_Kong:20260503T073000
DTEND;TZID=Asia/Hong_Kong:19700101T080000
LOCATION:Meeting room 2 @ 3018
SUMMARY:Cantonese chit-chat 你今日“港”咗未？(For Non-Chinese background students)
UID:2748
END:VEVENT
BEGIN:VEVENT
DTSTAMP;TZID=Asia/Hong_Kong:20260425T034616
DTSTART;TZID=Asia/Hong_Kong:20260504T073000
DTEND;TZID=Asia/Hong_Kong:19700101T080000
LOCATION:Meeting room 2 @ 3018
SUMMARY:Cantonese chit-chat 你今日“港”咗未？(For Non-Chinese background students)
UID:2748
END:VEVENT
BEGIN:VEVENT
DTSTAMP;TZID=Asia/Hong_Kong:20260425T034616
DTSTART;TZID=Asia/Hong_Kong:20260505T073000
DTEND;TZID=Asia/Hong_Kong:19700101T080000
LOCATION:Meeting room 2 @ 3018
SUMMARY:Cantonese chit-chat 你今日“港”咗未？(For Non-Chinese background students)
UID:2748
END:VEVENT
BEGIN:VEVENT
DTSTAMP;TZID=Asia/Hong_Kong:20260425T034616
DTSTART;TZID=Asia/Hong_Kong:20260506T073000
DTEND;TZID=Asia/Hong_Kong:19700101T080000
LOCATION:Meeting room 2 @ 3018
SUMMARY:Cantonese chit-chat 你今日“港”咗未？(For Non-Chinese background students)
UID:2748
END:VEVENT
BEGIN:VEVENT
DTSTAMP;TZID=Asia/Hong_Kong:20260425T034616
DTSTART;TZID=Asia/Hong_Kong:20260507T073000
DTEND;TZID=Asia/Hong_Kong:19700101T080000
LOCATION:Meeting room 2 @ 3018
SUMMARY:Cantonese chit-chat 你今日“港”咗未？(For Non-Chinese background students)
UID:2748
END:VEVENT
BEGIN:VEVENT
DTSTAMP;TZID=Asia/Hong_Kong:20260425T034616
DTSTART;TZID=Asia/Hong_Kong:20260508T073000
DTEND;TZID=Asia/Hong_Kong:19700101T080000
LOCATION:Meeting room 2 @ 3018
SUMMARY:Cantonese chit-chat 你今日“港”咗未？(For Non-Chinese background students)
UID:2748
END:VEVENT
BEGIN:VEVENT
DTSTAMP;TZID=Asia/Hong_Kong:20260425T034616
DTSTART;TZID=Asia/Hong_Kong:20260509T073000
DTEND;TZID=Asia/Hong_Kong:19700101T080000
LOCATION:Meeting room 2 @ 3018
SUMMARY:Cantonese chit-chat 你今日“港”咗未？(For Non-Chinese background students)
UID:2748
END:VEVENT
END:VCALENDAR