BEGIN:VCALENDAR
PRODID:-//HKUST Drupal Platform//EN
VERSION:2.0
BEGIN:VTIMEZONE
TZID:Asia/Hong_Kong
BEGIN:STANDARD
DTSTART:20071104T020000
TZOFFSETFROM:+0700
TZOFFSETTO:+0800
TZNAME:HKT
END:STANDARD
END:VTIMEZONE
BEGIN:VEVENT
DTSTAMP;TZID=Asia/Hong_Kong:20260423T080044
DTSTART;TZID=Asia/Hong_Kong:20260225T023000
DTEND;TZID=Asia/Hong_Kong:20260225T163000
LOCATION:Room 3019A (Lift 2)
SUMMARY:Prompt Engineering for Effective English Communication
UID:2757
END:VEVENT
BEGIN:VEVENT
DTSTAMP;TZID=Asia/Hong_Kong:20260423T080044
DTSTART;TZID=Asia/Hong_Kong:20260226T023000
DTEND;TZID=Asia/Hong_Kong:20260226T163000
LOCATION:Room 3019A (Lift 2)
SUMMARY:Prompt Engineering for Effective English Communication
UID:2757
END:VEVENT
BEGIN:VEVENT
DTSTAMP;TZID=Asia/Hong_Kong:20260423T080044
DTSTART;TZID=Asia/Hong_Kong:20260227T023000
DTEND;TZID=Asia/Hong_Kong:20260227T163000
LOCATION:Room 3019A (Lift 2)
SUMMARY:Prompt Engineering for Effective English Communication
UID:2757
END:VEVENT
BEGIN:VEVENT
DTSTAMP;TZID=Asia/Hong_Kong:20260423T080044
DTSTART;TZID=Asia/Hong_Kong:20260228T023000
DTEND;TZID=Asia/Hong_Kong:20260228T163000
LOCATION:Room 3019A (Lift 2)
SUMMARY:Prompt Engineering for Effective English Communication
UID:2757
END:VEVENT
BEGIN:VEVENT
DTSTAMP;TZID=Asia/Hong_Kong:20260423T080044
DTSTART;TZID=Asia/Hong_Kong:20260301T023000
DTEND;TZID=Asia/Hong_Kong:20260301T163000
LOCATION:Room 3019A (Lift 2)
SUMMARY:Prompt Engineering for Effective English Communication
UID:2757
END:VEVENT
BEGIN:VEVENT
DTSTAMP;TZID=Asia/Hong_Kong:20260423T080044
DTSTART;TZID=Asia/Hong_Kong:20260302T023000
DTEND;TZID=Asia/Hong_Kong:20260302T163000
LOCATION:Room 3019A (Lift 2)
SUMMARY:Prompt Engineering for Effective English Communication
UID:2757
END:VEVENT
BEGIN:VEVENT
DTSTAMP;TZID=Asia/Hong_Kong:20260423T080044
DTSTART;TZID=Asia/Hong_Kong:20260303T023000
DTEND;TZID=Asia/Hong_Kong:20260303T163000
LOCATION:Room 3019A (Lift 2)
SUMMARY:Prompt Engineering for Effective English Communication
UID:2757
END:VEVENT
BEGIN:VEVENT
DTSTAMP;TZID=Asia/Hong_Kong:20260423T080044
DTSTART;TZID=Asia/Hong_Kong:20260304T023000
DTEND;TZID=Asia/Hong_Kong:20260304T163000
LOCATION:Room 3019A (Lift 2)
SUMMARY:Prompt Engineering for Effective English Communication
UID:2757
END:VEVENT
BEGIN:VEVENT
DTSTAMP;TZID=Asia/Hong_Kong:20260423T080044
DTSTART;TZID=Asia/Hong_Kong:20260305T023000
DTEND;TZID=Asia/Hong_Kong:20260305T163000
LOCATION:Room 3019A (Lift 2)
SUMMARY:Prompt Engineering for Effective English Communication
UID:2757
END:VEVENT
BEGIN:VEVENT
DTSTAMP;TZID=Asia/Hong_Kong:20260423T080044
DTSTART;TZID=Asia/Hong_Kong:20260306T023000
DTEND;TZID=Asia/Hong_Kong:20260306T163000
LOCATION:Room 3019A (Lift 2)
SUMMARY:Prompt Engineering for Effective English Communication
UID:2757
END:VEVENT
BEGIN:VEVENT
DTSTAMP;TZID=Asia/Hong_Kong:20260423T080044
DTSTART;TZID=Asia/Hong_Kong:20260307T023000
DTEND;TZID=Asia/Hong_Kong:20260307T163000
LOCATION:Room 3019A (Lift 2)
SUMMARY:Prompt Engineering for Effective English Communication
UID:2757
END:VEVENT
BEGIN:VEVENT
DTSTAMP;TZID=Asia/Hong_Kong:20260423T080044
DTSTART;TZID=Asia/Hong_Kong:20260308T023000
DTEND;TZID=Asia/Hong_Kong:20260308T163000
LOCATION:Room 3019A (Lift 2)
SUMMARY:Prompt Engineering for Effective English Communication
UID:2757
END:VEVENT
BEGIN:VEVENT
DTSTAMP;TZID=Asia/Hong_Kong:20260423T080044
DTSTART;TZID=Asia/Hong_Kong:20260309T023000
DTEND;TZID=Asia/Hong_Kong:20260309T163000
LOCATION:Room 3019A (Lift 2)
SUMMARY:Prompt Engineering for Effective English Communication
UID:2757
END:VEVENT
BEGIN:VEVENT
DTSTAMP;TZID=Asia/Hong_Kong:20260423T080044
DTSTART;TZID=Asia/Hong_Kong:20260310T023000
DTEND;TZID=Asia/Hong_Kong:20260310T163000
LOCATION:Room 3019A (Lift 2)
SUMMARY:Prompt Engineering for Effective English Communication
UID:2757
END:VEVENT
BEGIN:VEVENT
DTSTAMP;TZID=Asia/Hong_Kong:20260423T080044
DTSTART;TZID=Asia/Hong_Kong:20260311T023000
DTEND;TZID=Asia/Hong_Kong:20260311T163000
LOCATION:Room 3019A (Lift 2)
SUMMARY:Prompt Engineering for Effective English Communication
UID:2757
END:VEVENT
END:VCALENDAR